BEGIN:VCALENDAR
VERSION:2.0
PRODID:-//Connectwerx - ECPv6.13.2.1//NONSGML v1.0//EN
CALSCALE:GREGORIAN
METHOD:PUBLISH
X-ORIGINAL-URL:https://www.connectwerx.org
X-WR-CALDESC:Events for Connectwerx
REFRESH-INTERVAL;VALUE=DURATION:PT1H
X-Robots-Tag:noindex
X-PUBLISHED-TTL:PT1H
BEGIN:VTIMEZONE
TZID:America/New_York
BEGIN:DAYLIGHT
TZOFFSETFROM:-0500
TZOFFSETTO:-0400
TZNAME:EDT
DTSTART:20250309T070000
END:DAYLIGHT
BEGIN:STANDARD
TZOFFSETFROM:-0400
TZOFFSETTO:-0500
TZNAME:EST
DTSTART:20251102T060000
END:STANDARD
END:VTIMEZONE
BEGIN:VEVENT
DTSTART;TZID=America/New_York:20250110T130000
DTEND;TZID=America/New_York:20250110T130000
DTSTAMP:20260423T141001
CREATED:20241125T170547Z
LAST-MODIFIED:20241125T170547Z
UID:10000020-1736514000-1736514000@www.connectwerx.org
SUMMARY:Submission Deadline: PPO-CWX-010
DESCRIPTION:
URL:https://www.connectwerx.org/event1/submission-deadline-ppo-cwx-010/
CATEGORIES:Solicitation Deadline
END:VEVENT
END:VCALENDAR